BEGIN:VCALENDAR
VERSION:2.0
PRODID:-//StreamRadar//Match Calendar//EN
CALSCALE:GREGORIAN
METHOD:PUBLISH
X-WR-CALNAME:Ulytau vs Kairat
X-WR-TIMEZONE:America/New_York
BEGIN:VEVENT
UID:match-5582195@streamradar.soccer
SUMMARY:Ulytau vs Kairat
DTSTAMP:20260421T092248Z
DTSTART;TZID=America/New_York:20260510T060000
DTEND;TZID=America/New_York:20260510T080000
LOCATION:Stadion Metallurg
DESCRIPTION:Where to watch Ulytau vs Kairat in the Kazakhstan Premier Leagu
 e. Live stream and TV listings.\nhttps://streamradar.soccer/en/match/558219
 5/ulytau-vs-kairat/
URL;VALUE=URI:https://streamradar.soccer/en/match/5582195/ulytau-vs-kairat/
STATUS:CONFIRMED
END:VEVENT
END:VCALENDAR
