BEGIN:VCALENDAR
VERSION:2.0
PRODID:-//StreamRadar//Match Calendar//EN
CALSCALE:GREGORIAN
METHOD:PUBLISH
X-WR-CALNAME:Ouakam vs Casa Sport
X-WR-TIMEZONE:America/New_York
BEGIN:VEVENT
UID:match-5580626@streamradar.soccer
SUMMARY:Ouakam vs Casa Sport
DTSTAMP:20260423T045422Z
DTSTART;TZID=America/New_York:20260308T123000
DTEND;TZID=America/New_York:20260308T143000
LOCATION:Stade Demba Diop (Dakar)
DESCRIPTION:Where to watch Ouakam vs Casa Sport in the Premier League. Live
  stream and TV listings.\nhttps://streamradar.soccer/en/match/5580626/ouaka
 m-vs-casa-sport/
URL;VALUE=URI:https://streamradar.soccer/en/match/5580626/ouakam-vs-casa-sp
 ort/
STATUS:CONFIRMED
END:VEVENT
END:VCALENDAR
