BEGIN:VCALENDAR
VERSION:2.0
PRODID:-//StreamRadar//Match Calendar//EN
CALSCALE:GREGORIAN
METHOD:PUBLISH
X-WR-CALNAME:Raja Beni Mellal vs Chabab Ben Guerir
X-WR-TIMEZONE:America/New_York
BEGIN:VEVENT
UID:match-5580618@streamradar.soccer
SUMMARY:Raja Beni Mellal vs Chabab Ben Guerir
DTSTAMP:20260422T224247Z
DTSTART;TZID=America/New_York:20260315T180000
DTEND;TZID=America/New_York:20260315T200000
LOCATION:Stade honneur de Beni Mellal
DESCRIPTION:Where to watch Raja Beni Mellal vs Chabab Ben Guerir in the Bot
 ola Pro 2. Live stream and TV listings.\nhttps://streamradar.soccer/en/matc
 h/5580618/raja-beni-mellal-vs-chabab-ben-guerir/
URL;VALUE=URI:https://streamradar.soccer/en/match/5580618/raja-beni-mellal-
 vs-chabab-ben-guerir/
STATUS:CONFIRMED
END:VEVENT
END:VCALENDAR
