BEGIN:VCALENDAR
VERSION:2.0
PRODID:-//StreamRadar//Match Calendar//EN
CALSCALE:GREGORIAN
METHOD:PUBLISH
X-WR-CALNAME:Chabab Mohammédia vs Wydad Fès
X-WR-TIMEZONE:America/New_York
BEGIN:VEVENT
UID:match-5580614@streamradar.soccer
SUMMARY:Chabab Mohammédia vs Wydad Fès
DTSTAMP:20260422T222704Z
DTSTART;TZID=America/New_York:20260314T180000
DTEND;TZID=America/New_York:20260314T200000
LOCATION:Stade El Bachir
DESCRIPTION:Where to watch Chabab Mohammédia vs Wydad Fès in the Botola P
 ro 2. Live stream and TV listings.\nhttps://streamradar.soccer/en/match/558
 0614/chabab-mohammedia-vs-wydad-fes/
URL;VALUE=URI:https://streamradar.soccer/en/match/5580614/chabab-mohammedia
 -vs-wydad-fes/
STATUS:CONFIRMED
END:VEVENT
END:VCALENDAR
