BEGIN:VCALENDAR
VERSION:2.0
PRODID:-//StreamRadar//Match Calendar//EN
CALSCALE:GREGORIAN
METHOD:PUBLISH
X-WR-CALNAME:Defensores Belgrano VR vs El Linqueño
X-WR-TIMEZONE:America/New_York
BEGIN:VEVENT
UID:match-5580482@streamradar.soccer
SUMMARY:Defensores Belgrano VR vs El Linqueño
DTSTAMP:20260422T072704Z
DTSTART;TZID=America/New_York:20260329T150000
DTEND;TZID=America/New_York:20260329T170000
LOCATION:Salomon Boeseldin
DESCRIPTION:Where to watch Defensores Belgrano VR vs El Linqueño in the To
 rneo Federal A. Live stream and TV listings.\nhttps://streamradar.soccer/en
 /match/5580482/defensores-belgrano-vr-vs-el-linqueno/
URL;VALUE=URI:https://streamradar.soccer/en/match/5580482/defensores-belgra
 no-vr-vs-el-linqueno/
STATUS:CONFIRMED
END:VEVENT
END:VCALENDAR
