BEGIN:VCALENDAR
VERSION:2.0
PRODID:-//StreamRadar//Match Calendar//EN
CALSCALE:GREGORIAN
METHOD:PUBLISH
X-WR-CALNAME:Prison Service vs San Juan Jabloteh
X-WR-TIMEZONE:America/New_York
BEGIN:VEVENT
UID:match-5580440@streamradar.soccer
SUMMARY:Prison Service vs San Juan Jabloteh
DTSTAMP:20260422T195218Z
DTSTART;TZID=America/New_York:20260318T180000
DTEND;TZID=America/New_York:20260318T200000
LOCATION:Youth Training Centre (Arouca)
DESCRIPTION:Where to watch Prison Service vs San Juan Jabloteh in the T & T
  Pro League. Live stream and TV listings.\nhttps://streamradar.soccer/en/ma
 tch/5580440/prison-service-vs-san-juan-jabloteh/
URL;VALUE=URI:https://streamradar.soccer/en/match/5580440/prison-service-vs
 -san-juan-jabloteh/
STATUS:CONFIRMED
END:VEVENT
END:VCALENDAR
