BEGIN:VCALENDAR
VERSION:2.0
PRODID:-//StreamRadar//Match Calendar//EN
CALSCALE:GREGORIAN
METHOD:PUBLISH
X-WR-CALNAME:Leones Negros UdeG vs Atlético Morelia
X-WR-TIMEZONE:America/New_York
BEGIN:VEVENT
UID:match-5580416@streamradar.soccer
SUMMARY:Leones Negros UdeG vs Atlético Morelia
DTSTAMP:20260422T024627Z
DTSTART;TZID=America/New_York:20260404T210000
DTEND;TZID=America/New_York:20260404T230000
LOCATION:Estadio Jalisco
DESCRIPTION:Where to watch Leones Negros UdeG vs Atlético Morelia in the L
 iga de Expansión MX. Live stream and TV listings.\nhttps://streamradar.soc
 cer/en/match/5580416/leones-negros-udeg-vs-atletico-morelia/
URL;VALUE=URI:https://streamradar.soccer/en/match/5580416/leones-negros-ude
 g-vs-atletico-morelia/
STATUS:CONFIRMED
END:VEVENT
END:VCALENDAR
