BEGIN:VCALENDAR
VERSION:2.0
PRODID:-//StreamRadar//Match Calendar//EN
CALSCALE:GREGORIAN
METHOD:PUBLISH
X-WR-CALNAME:IFK Skövde vs Tord
X-WR-TIMEZONE:America/New_York
BEGIN:VEVENT
UID:match-5566349@streamradar.soccer
SUMMARY:IFK Skövde vs Tord
DTSTAMP:20260421T142138Z
DTSTART;TZID=America/New_York:20260912T100000
DTEND;TZID=America/New_York:20260912T120000
DESCRIPTION:Where to watch IFK Skövde vs Tord in the Division 2. Live stre
 am and TV listings.\nhttps://streamradar.soccer/en/match/5566349/ifk-skovde
 -vs-tord/
URL;VALUE=URI:https://streamradar.soccer/en/match/5566349/ifk-skovde-vs-tor
 d/
STATUS:CONFIRMED
END:VEVENT
END:VCALENDAR
