BEGIN:VCALENDAR
VERSION:2.0
PRODID:-//StreamRadar//Match Calendar//EN
CALSCALE:GREGORIAN
METHOD:PUBLISH
X-WR-CALNAME:Gottne vs IFK Östersund
X-WR-TIMEZONE:America/New_York
BEGIN:VEVENT
UID:match-5566156@streamradar.soccer
SUMMARY:Gottne vs IFK Östersund
DTSTAMP:20260421T113310Z
DTSTART;TZID=America/New_York:20260514T080000
DTEND;TZID=America/New_York:20260514T100000
DESCRIPTION:Where to watch Gottne vs IFK Östersund in the Division 2. Live
  stream and TV listings.\nhttps://streamradar.soccer/en/match/5566156/gottn
 e-vs-ifk-ostersund/
URL;VALUE=URI:https://streamradar.soccer/en/match/5566156/gottne-vs-ifk-ost
 ersund/
STATUS:CONFIRMED
END:VEVENT
END:VCALENDAR
