BEGIN:VCALENDAR
VERSION:2.0
PRODID:-//StreamRadar//Match Calendar//EN
CALSCALE:GREGORIAN
METHOD:PUBLISH
X-WR-CALNAME:Colorado Rapids II vs North Texas
X-WR-TIMEZONE:America/New_York
BEGIN:VEVENT
UID:match-5565982@streamradar.soccer
SUMMARY:Colorado Rapids II vs North Texas
DTSTAMP:20260424T041934Z
DTSTART;TZID=America/New_York:20260920T170000
DTEND;TZID=America/New_York:20260920T190000
LOCATION:CIBER Field
DESCRIPTION:Where to watch Colorado Rapids II vs North Texas in the MLS Nex
 t Pro. Live stream and TV listings.\nhttps://streamradar.soccer/en/match/55
 65982/colorado-rapids-ii-vs-north-texas/
URL;VALUE=URI:https://streamradar.soccer/en/match/5565982/colorado-rapids-i
 i-vs-north-texas/
STATUS:CONFIRMED
END:VEVENT
END:VCALENDAR
