BEGIN:VCALENDAR
VERSION:2.0
PRODID:-//StreamRadar//Match Calendar//EN
CALSCALE:GREGORIAN
METHOD:PUBLISH
X-WR-CALNAME:San Jose Earthquakes II vs Tacoma Defiance
X-WR-TIMEZONE:America/New_York
BEGIN:VEVENT
UID:match-5565950@streamradar.soccer
SUMMARY:San Jose Earthquakes II vs Tacoma Defiance
DTSTAMP:20260422T114234Z
DTSTART;TZID=America/New_York:20260905T120000
DTEND;TZID=America/New_York:20260905T140000
LOCATION:PayPal Park
DESCRIPTION:Where to watch San Jose Earthquakes II vs Tacoma Defiance in th
 e MLS Next Pro. Live stream and TV listings.\nhttps://streamradar.soccer/en
 /match/5565950/san-jose-earthquakes-ii-vs-tacoma-defiance/
URL;VALUE=URI:https://streamradar.soccer/en/match/5565950/san-jose-earthqua
 kes-ii-vs-tacoma-defiance/
STATUS:CONFIRMED
END:VEVENT
END:VCALENDAR
