BEGIN:VCALENDAR
VERSION:2.0
PRODID:-//StreamRadar//Match Calendar//EN
CALSCALE:GREGORIAN
METHOD:PUBLISH
X-WR-CALNAME:Liepāja vs BFC Daugavpils
X-WR-TIMEZONE:America/New_York
BEGIN:VEVENT
UID:match-5561940@streamradar.soccer
SUMMARY:Liepāja vs BFC Daugavpils
DTSTAMP:20260422T053929Z
DTSTART;TZID=America/New_York:20260919T070000
DTEND;TZID=America/New_York:20260919T090000
LOCATION:Daugavas stadions
DESCRIPTION:Where to watch Liepāja vs BFC Daugavpils in the Virsliga. Live
  stream and TV listings.\nhttps://streamradar.soccer/en/match/5561940/liep-
 ja-vs-bfc-daugavpils/
URL;VALUE=URI:https://streamradar.soccer/en/match/5561940/liep-ja-vs-bfc-da
 ugavpils/
STATUS:CONFIRMED
END:VEVENT
END:VCALENDAR
