BEGIN:VCALENDAR
VERSION:2.0
PRODID:-//StreamRadar//Match Calendar//EN
CALSCALE:GREGORIAN
METHOD:PUBLISH
X-WR-CALNAME:FS Jelgava vs Super Nova
X-WR-TIMEZONE:America/New_York
BEGIN:VEVENT
UID:match-5561931@streamradar.soccer
SUMMARY:FS Jelgava vs Super Nova
DTSTAMP:20260422T075011Z
DTSTART;TZID=America/New_York:20260905T100000
DTEND;TZID=America/New_York:20260905T120000
LOCATION:Zemgales Olimpiskais centrs
DESCRIPTION:Where to watch FS Jelgava vs Super Nova in the Virsliga. Live s
 tream and TV listings.\nhttps://streamradar.soccer/en/match/5561931/fs-jelg
 ava-vs-super-nova/
URL;VALUE=URI:https://streamradar.soccer/en/match/5561931/fs-jelgava-vs-sup
 er-nova/
STATUS:CONFIRMED
END:VEVENT
END:VCALENDAR
