BEGIN:VCALENDAR
VERSION:2.0
PRODID:-//StreamRadar//Match Calendar//EN
CALSCALE:GREGORIAN
METHOD:PUBLISH
X-WR-CALNAME:Velo Clube vs Vila Nova
X-WR-TIMEZONE:America/New_York
BEGIN:VEVENT
UID:match-5560838@streamradar.soccer
SUMMARY:Velo Clube vs Vila Nova
DTSTAMP:20260423T080718Z
DTSTART;TZID=America/New_York:20260304T170000
DTEND;TZID=America/New_York:20260304T190000
LOCATION:Estadio Benito Agnelo Castellano
DESCRIPTION:Where to watch Velo Clube vs Vila Nova in the Copa do Brasil. L
 ive stream and TV listings.\nhttps://streamradar.soccer/en/match/5560838/ve
 lo-clube-vs-vila-nova/
URL;VALUE=URI:https://streamradar.soccer/en/match/5560838/velo-clube-vs-vil
 a-nova/
STATUS:CONFIRMED
END:VEVENT
END:VCALENDAR
