BEGIN:VCALENDAR
VERSION:2.0
PRODID:-//StreamRadar//Match Calendar//EN
CALSCALE:GREGORIAN
METHOD:PUBLISH
X-WR-CALNAME:Deportivo Laferrere vs Villa San Carlos
X-WR-TIMEZONE:America/New_York
BEGIN:VEVENT
UID:match-5560754@streamradar.soccer
SUMMARY:Deportivo Laferrere vs Villa San Carlos
DTSTAMP:20260421T105011Z
DTSTART;TZID=America/New_York:20260912T160000
DTEND;TZID=America/New_York:20260912T180000
LOCATION:Ciudad de Laferrere Stadium
DESCRIPTION:Where to watch Deportivo Laferrere vs Villa San Carlos in the P
 rimera B Metropolitana. Live stream and TV listings.\nhttps://streamradar.s
 occer/en/match/5560754/deportivo-laferrere-vs-villa-san-carlos/
URL;VALUE=URI:https://streamradar.soccer/en/match/5560754/deportivo-laferre
 re-vs-villa-san-carlos/
STATUS:CONFIRMED
END:VEVENT
END:VCALENDAR
