BEGIN:VCALENDAR
VERSION:2.0
PRODID:-//StreamRadar//Match Calendar//EN
CALSCALE:GREGORIAN
METHOD:PUBLISH
X-WR-CALNAME:América Mineiro vs São Bernardo
X-WR-TIMEZONE:America/New_York
BEGIN:VEVENT
UID:match-5559552@streamradar.soccer
SUMMARY:América Mineiro vs São Bernardo
DTSTAMP:20260422T000442Z
DTSTART;TZID=America/New_York:20260912T150000
DTEND;TZID=America/New_York:20260912T170000
DESCRIPTION:Where to watch América Mineiro vs São Bernardo in the Serie B
 . Live stream and TV listings.\nhttps://streamradar.soccer/en/match/5559552
 /america-mineiro-vs-sao-bernardo/
URL;VALUE=URI:https://streamradar.soccer/en/match/5559552/america-mineiro-v
 s-sao-bernardo/
STATUS:CONFIRMED
END:VEVENT
END:VCALENDAR
