BEGIN:VCALENDAR
VERSION:2.0
PRODID:-//StreamRadar//Match Calendar//EN
CALSCALE:GREGORIAN
METHOD:PUBLISH
X-WR-CALNAME:SJK Akatemia vs KäPa
X-WR-TIMEZONE:America/New_York
BEGIN:VEVENT
UID:match-5535695@streamradar.soccer
SUMMARY:SJK Akatemia vs KäPa
DTSTAMP:20260425T162443Z
DTSTART;TZID=America/New_York:20260919T110000
DTEND;TZID=America/New_York:20260919T130000
LOCATION:OmaSp Stadion
DESCRIPTION:Where to watch SJK Akatemia vs KäPa in the Ykkösliiga. Live s
 tream and TV listings.\nhttps://streamradar.soccer/en/match/5535695/sjk-aka
 temia-vs-kapa/
URL;VALUE=URI:https://streamradar.soccer/en/match/5535695/sjk-akatemia-vs-k
 apa/
STATUS:CONFIRMED
END:VEVENT
END:VCALENDAR
