BEGIN:VCALENDAR
VERSION:2.0
PRODID:-//StreamRadar//Match Calendar//EN
CALSCALE:GREGORIAN
METHOD:PUBLISH
X-WR-CALNAME:Ekenäs IF vs Haka
X-WR-TIMEZONE:America/New_York
BEGIN:VEVENT
UID:match-5535688@streamradar.soccer
SUMMARY:Ekenäs IF vs Haka
DTSTAMP:20260425T150922Z
DTSTART;TZID=America/New_York:20260912T080000
DTEND;TZID=America/New_York:20260912T100000
LOCATION:Tammisaari Keskuskentta
DESCRIPTION:Where to watch Ekenäs IF vs Haka in the Ykkösliiga. Live stre
 am and TV listings.\nhttps://streamradar.soccer/en/match/5535688/ekenas-if-
 vs-haka/
URL;VALUE=URI:https://streamradar.soccer/en/match/5535688/ekenas-if-vs-haka
 /
STATUS:CONFIRMED
END:VEVENT
END:VCALENDAR
