BEGIN:VCALENDAR
VERSION:2.0
PRODID:-//StreamRadar//Match Calendar//EN
CALSCALE:GREGORIAN
METHOD:PUBLISH
X-WR-CALNAME:Falkenberg vs Öster
X-WR-TIMEZONE:America/New_York
BEGIN:VEVENT
UID:match-5531891@streamradar.soccer
SUMMARY:Falkenberg vs Öster
DTSTAMP:20260421T191812Z
DTSTART;TZID=America/New_York:20260909T090000
DTEND;TZID=America/New_York:20260909T110000
LOCATION:Falcon Alkoholfri Arena
DESCRIPTION:Where to watch Falkenberg vs Öster in the Superettan. Live str
 eam and TV listings.\nhttps://streamradar.soccer/en/match/5531891/falkenber
 g-vs-oster/
URL;VALUE=URI:https://streamradar.soccer/en/match/5531891/falkenberg-vs-ost
 er/
STATUS:CONFIRMED
END:VEVENT
END:VCALENDAR
