BEGIN:VCALENDAR
VERSION:2.0
PRODID:-//StreamRadar//Match Calendar//EN
CALSCALE:GREGORIAN
METHOD:PUBLISH
X-WR-CALNAME:Örebro vs Östersunds FK
X-WR-TIMEZONE:America/New_York
BEGIN:VEVENT
UID:match-5531888@streamradar.soccer
SUMMARY:Örebro vs Östersunds FK
DTSTAMP:20260422T012347Z
DTSTART;TZID=America/New_York:20260906T090000
DTEND;TZID=America/New_York:20260906T110000
LOCATION:Behrn Arena
DESCRIPTION:Where to watch Örebro vs Östersunds FK in the Superettan. Liv
 e stream and TV listings.\nhttps://streamradar.soccer/en/match/5531888/oreb
 ro-vs-ostersunds-fk/
URL;VALUE=URI:https://streamradar.soccer/en/match/5531888/orebro-vs-ostersu
 nds-fk/
STATUS:CONFIRMED
END:VEVENT
END:VCALENDAR
