BEGIN:VCALENDAR
VERSION:2.0
PRODID:-//StreamRadar//Match Calendar//EN
CALSCALE:GREGORIAN
METHOD:PUBLISH
X-WR-CALNAME:Greenville Triumph vs Corpus Christi
X-WR-TIMEZONE:America/New_York
BEGIN:VEVENT
UID:match-5509598@streamradar.soccer
SUMMARY:Greenville Triumph vs Corpus Christi
DTSTAMP:20260421T080831Z
DTSTART;TZID=America/New_York:20260916T110000
DTEND;TZID=America/New_York:20260916T130000
LOCATION:Paladin Stadium
DESCRIPTION:Where to watch Greenville Triumph vs Corpus Christi in the USL 
 League One. Live stream and TV listings.\nhttps://streamradar.soccer/en/mat
 ch/5509598/greenville-triumph-vs-corpus-christi/
URL;VALUE=URI:https://streamradar.soccer/en/match/5509598/greenville-triump
 h-vs-corpus-christi/
STATUS:CONFIRMED
END:VEVENT
END:VCALENDAR
