BEGIN:VCALENDAR
VERSION:2.0
PRODID:-//StreamRadar//Match Calendar//EN
CALSCALE:GREGORIAN
METHOD:PUBLISH
X-WR-CALNAME:Waterford United vs Dundalk
X-WR-TIMEZONE:America/New_York
BEGIN:VEVENT
UID:match-5506290@streamradar.soccer
SUMMARY:Waterford United vs Dundalk
DTSTAMP:20260425T132814Z
DTSTART;TZID=America/New_York:20260911T144500
DTEND;TZID=America/New_York:20260911T164500
LOCATION:Regional Sports Centre
DESCRIPTION:Where to watch Waterford United vs Dundalk in the Premier Divis
 ion. Live stream and TV listings.\nhttps://streamradar.soccer/en/match/5506
 290/waterford-united-vs-dundalk/
URL;VALUE=URI:https://streamradar.soccer/en/match/5506290/waterford-united-
 vs-dundalk/
STATUS:CONFIRMED
END:VEVENT
END:VCALENDAR
