BEGIN:VCALENDAR
VERSION:2.0
PRODID:-//StreamRadar//Match Calendar//EN
CALSCALE:GREGORIAN
METHOD:PUBLISH
X-WR-CALNAME:Oakland Roots vs Lexington
X-WR-TIMEZONE:America/New_York
BEGIN:VEVENT
UID:match-5505598@streamradar.soccer
SUMMARY:Oakland Roots vs Lexington
DTSTAMP:20260421T104427Z
DTSTART;TZID=America/New_York:20260912T220000
DTEND;TZID=America/New_York:20260913T000000
LOCATION:Laney College Football Stadium
DESCRIPTION:Where to watch Oakland Roots vs Lexington in the USL Championsh
 ip. Live stream and TV listings.\nhttps://streamradar.soccer/en/match/55055
 98/oakland-roots-vs-lexington/
URL;VALUE=URI:https://streamradar.soccer/en/match/5505598/oakland-roots-vs-
 lexington/
STATUS:CONFIRMED
END:VEVENT
END:VCALENDAR
