BEGIN:VCALENDAR
VERSION:2.0
PRODID:-//StreamRadar//Match Calendar//EN
CALSCALE:GREGORIAN
METHOD:PUBLISH
X-WR-CALNAME:Club Africain vs Olympique Béja
X-WR-TIMEZONE:America/New_York
BEGIN:VEVENT
UID:match-5620967@streamradar.soccer
SUMMARY:Club Africain vs Olympique Béja
DTSTAMP:20260425T120007Z
DTSTART;TZID=America/New_York:20260513T093000
DTEND;TZID=America/New_York:20260513T113000
LOCATION:Stade Olympique Hammadi Agrebi
DESCRIPTION:Wo Sie Club Africain vs Olympique Béja in Tunesien - Ligue Pro
 fessionnelle 1 sehen können. Live-Stream und TV-Programm.\nhttps://streamr
 adar.soccer/de/match/5620967/club-africain-vs-olympique-beja/
URL;VALUE=URI:https://streamradar.soccer/de/match/5620967/club-africain-vs-
 olympique-beja/
STATUS:CONFIRMED
END:VEVENT
END:VCALENDAR
