BEGIN:VCALENDAR
VERSION:2.0
PRODID:-//StreamRadar//Match Calendar//EN
CALSCALE:GREGORIAN
METHOD:PUBLISH
X-WR-CALNAME:Indy Eleven vs Union Omaha
X-WR-TIMEZONE:America/New_York
BEGIN:VEVENT
UID:match-5620808@streamradar.soccer
SUMMARY:Indy Eleven vs Union Omaha
DTSTAMP:20260424T171221Z
DTSTART;TZID=America/New_York:20260425T190000
DTEND;TZID=America/New_York:20260425T210000
LOCATION:Michael A. Carroll Stadium
DESCRIPTION:Wo Sie Indy Eleven vs Union Omaha in Vereinigte Staaten - USL C
 up sehen können. Live-Stream und TV-Programm.\nhttps://streamradar.soccer/
 de/match/5620808/indy-eleven-vs-union-omaha/
URL;VALUE=URI:https://streamradar.soccer/de/match/5620808/indy-eleven-vs-un
 ion-omaha/
STATUS:CONFIRMED
END:VEVENT
END:VCALENDAR
