BEGIN:VCALENDAR
VERSION:2.0
PRODID:-//StreamRadar//Match Calendar//EN
CALSCALE:GREGORIAN
METHOD:PUBLISH
X-WR-CALNAME:Parvoz-aeroport Khujand vs Eskhata
X-WR-TIMEZONE:America/New_York
BEGIN:VEVENT
UID:match-5619584@streamradar.soccer
SUMMARY:Parvoz-aeroport Khujand vs Eskhata
DTSTAMP:20260425T151104Z
DTSTART;TZID=America/New_York:20260522T090000
DTEND;TZID=America/New_York:20260522T110000
DESCRIPTION:Wo Sie Parvoz-aeroport Khujand vs Eskhata in Tadschikistan - Ta
 jik League sehen können. Live-Stream und TV-Programm.\nhttps://streamradar
 .soccer/de/match/5619584/parvoz-aeroport-khujand-vs-eskhata/
URL;VALUE=URI:https://streamradar.soccer/de/match/5619584/parvoz-aeroport-k
 hujand-vs-eskhata/
STATUS:CONFIRMED
END:VEVENT
END:VCALENDAR
