BEGIN:VCALENDAR
VERSION:2.0
PRODID:-//StreamRadar//Match Calendar//EN
CALSCALE:GREGORIAN
METHOD:PUBLISH
X-WR-CALNAME:Envigado vs Internacional Palmira
X-WR-TIMEZONE:America/New_York
BEGIN:VEVENT
UID:match-5619580@streamradar.soccer
SUMMARY:Envigado vs Internacional Palmira
DTSTAMP:20260423T123410Z
DTSTART;TZID=America/New_York:20260504T150000
DTEND;TZID=America/New_York:20260504T170000
LOCATION:Estadio Polideportivo Sur
DESCRIPTION:Wo Sie Envigado vs Internacional Palmira in Kolumbien - Primera
  B sehen können. Live-Stream und TV-Programm.\nhttps://streamradar.soccer/
 de/match/5619580/envigado-vs-internacional-palmira/
URL;VALUE=URI:https://streamradar.soccer/de/match/5619580/envigado-vs-inter
 nacional-palmira/
STATUS:CONFIRMED
END:VEVENT
END:VCALENDAR
