BEGIN:VCALENDAR
VERSION:2.0
PRODID:-//StreamRadar//Match Calendar//EN
CALSCALE:GREGORIAN
METHOD:PUBLISH
X-WR-CALNAME:Buchholz vs Teutonia Hamburg
X-WR-TIMEZONE:America/New_York
BEGIN:VEVENT
UID:match-5619570@streamradar.soccer
SUMMARY:Buchholz vs Teutonia Hamburg
DTSTAMP:20260423T133521Z
DTSTART;TZID=America/New_York:20260512T130000
DTEND;TZID=America/New_York:20260512T150000
DESCRIPTION:Wo Sie Buchholz vs Teutonia Hamburg in Deutschland - Oberliga s
 ehen können. Live-Stream und TV-Programm.\nhttps://streamradar.soccer/de/m
 atch/5619570/buchholz-vs-teutonia-hamburg/
URL;VALUE=URI:https://streamradar.soccer/de/match/5619570/buchholz-vs-teuto
 nia-hamburg/
STATUS:CONFIRMED
END:VEVENT
END:VCALENDAR
