BEGIN:VCALENDAR
VERSION:2.0
PRODID:-//StreamRadar//Match Calendar//EN
CALSCALE:GREGORIAN
METHOD:PUBLISH
X-WR-CALNAME:Hartford Athletic vs Rhode Island
X-WR-TIMEZONE:America/New_York
BEGIN:VEVENT
UID:match-5619469@streamradar.soccer
SUMMARY:Hartford Athletic vs Rhode Island
DTSTAMP:20260423T041136Z
DTSTART;TZID=America/New_York:20260425T190000
DTEND;TZID=America/New_York:20260425T210000
DESCRIPTION:Wo Sie Hartford Athletic vs Rhode Island in Vereinigte Staaten 
 - USL Cup sehen können. Live-Stream und TV-Programm.\nhttps://streamradar.
 soccer/de/match/5619469/hartford-athletic-vs-rhode-island/
URL;VALUE=URI:https://streamradar.soccer/de/match/5619469/hartford-athletic
 -vs-rhode-island/
STATUS:CONFIRMED
END:VEVENT
END:VCALENDAR
