BEGIN:VCALENDAR
VERSION:2.0
PRODID:-//StreamRadar//Match Calendar//EN
CALSCALE:GREGORIAN
METHOD:PUBLISH
X-WR-CALNAME:HÃ¤cken vs VÃ¤xjÃ¶
X-WR-TIMEZONE:America/New_York
BEGIN:VEVENT
UID:match-5618946@streamradar.soccer
SUMMARY:HÃ¤cken vs VÃ¤xjÃ¶
DTSTAMP:20260422T112319Z
DTSTART;TZID=America/New_York:20260520T123000
DTEND;TZID=America/New_York:20260520T143000
LOCATION:Nordic Wellness Arena
DESCRIPTION:Wo Sie HÃ¤cken vs VÃ¤xjÃ¶ in Schweden - Damallsvenskan sehen kÃ
 ¶nnen. Live-Stream und TV-Programm.\nhttps://streamradar.soccer/de/match/56
 18946/hacken-vs-vaxjo/
URL;VALUE=URI:https://streamradar.soccer/de/match/5618946/hacken-vs-vaxjo/
STATUS:CONFIRMED
END:VEVENT
END:VCALENDAR
