BEGIN:VCALENDAR
VERSION:2.0
PRODID:-//StreamRadar//Match Calendar//EN
CALSCALE:GREGORIAN
METHOD:PUBLISH
X-WR-CALNAME:Seahorses vs City SC
X-WR-TIMEZONE:America/New_York
BEGIN:VEVENT
UID:match-5618945@streamradar.soccer
SUMMARY:Seahorses vs City SC
DTSTAMP:20260422T110147Z
DTSTART;TZID=America/New_York:20260519T220000
DTEND;TZID=America/New_York:20260520T000000
DESCRIPTION:Wo Sie Seahorses vs City SC in USL League Two sehen können. Li
 ve-Stream und TV-Programm.\nhttps://streamradar.soccer/de/match/5618945/sea
 horses-vs-city-sc/
URL;VALUE=URI:https://streamradar.soccer/de/match/5618945/seahorses-vs-city
 -sc/
STATUS:CONFIRMED
END:VEVENT
END:VCALENDAR
