BEGIN:VCALENDAR
VERSION:2.0
PRODID:-//StreamRadar//Match Calendar//EN
CALSCALE:GREGORIAN
METHOD:PUBLISH
X-WR-CALNAME:Shenzhen 2028 vs Shaanxi Union
X-WR-TIMEZONE:America/New_York
BEGIN:VEVENT
UID:match-5618931@streamradar.soccer
SUMMARY:Shenzhen 2028 vs Shaanxi Union
DTSTAMP:20260423T205148Z
DTSTART;TZID=America/New_York:20260515T030000
DTEND;TZID=America/New_York:20260515T050000
LOCATION:Shenzhen Youth Football Training Base
DESCRIPTION:Wo Sie Shenzhen 2028 vs Shaanxi Union in FA Cup sehen können. 
 Live-Stream und TV-Programm.\nhttps://streamradar.soccer/de/match/5618931/s
 henzhen-2028-vs-shaanxi-union/
URL;VALUE=URI:https://streamradar.soccer/de/match/5618931/shenzhen-2028-vs-
 shaanxi-union/
STATUS:CONFIRMED
END:VEVENT
END:VCALENDAR
