BEGIN:VCALENDAR
VERSION:2.0
PRODID:-//StreamRadar//Match Calendar//EN
CALSCALE:GREGORIAN
METHOD:PUBLISH
X-WR-CALNAME:Fard Alborz vs Pars Jam Bushehr
X-WR-TIMEZONE:America/New_York
BEGIN:VEVENT
UID:match-5618863@streamradar.soccer
SUMMARY:Fard Alborz vs Pars Jam Bushehr
DTSTAMP:20260422T105129Z
DTSTART;TZID=America/New_York:20260521T090000
DTEND;TZID=America/New_York:20260521T110000
DESCRIPTION:Wo Sie Fard Alborz vs Pars Jam Bushehr in Iran - Azadegan Leagu
 e sehen können. Live-Stream und TV-Programm.\nhttps://streamradar.soccer/d
 e/match/5618863/fard-alborz-vs-pars-jam-bushehr/
URL;VALUE=URI:https://streamradar.soccer/de/match/5618863/fard-alborz-vs-pa
 rs-jam-bushehr/
STATUS:CONFIRMED
END:VEVENT
END:VCALENDAR
