BEGIN:VCALENDAR
VERSION:2.0
PRODID:-//StreamRadar//Match Calendar//EN
CALSCALE:GREGORIAN
METHOD:PUBLISH
X-WR-CALNAME:KlaipÄ—dos FM vs Be1 NFA
X-WR-TIMEZONE:America/New_York
BEGIN:VEVENT
UID:match-5618838@streamradar.soccer
SUMMARY:KlaipÄ—dos FM vs Be1 NFA
DTSTAMP:20260422T181628Z
DTSTART;TZID=America/New_York:20260428T120000
DTEND;TZID=America/New_York:20260428T140000
DESCRIPTION:Wo Sie KlaipÄ—dos FM vs Be1 NFA in Litauen - LFF-Pokal sehen kÃ
 ¶nnen. Live-Stream und TV-Programm.\nhttps://streamradar.soccer/de/match/56
 18838/klaip-dos-fm-vs-be1-nfa/
URL;VALUE=URI:https://streamradar.soccer/de/match/5618838/klaip-dos-fm-vs-b
 e1-nfa/
STATUS:CONFIRMED
END:VEVENT
END:VCALENDAR
