BEGIN:VCALENDAR
VERSION:2.0
PRODID:-//StreamRadar//Match Calendar//EN
CALSCALE:GREGORIAN
METHOD:PUBLISH
X-WR-CALNAME:Ironi Modi'in vs Kafr Qasim
X-WR-TIMEZONE:America/New_York
BEGIN:VEVENT
UID:match-5618786@streamradar.soccer
SUMMARY:Ironi Modi'in vs Kafr Qasim
DTSTAMP:20260422T113635Z
DTSTART;TZID=America/New_York:20260501T090000
DTEND;TZID=America/New_York:20260501T110000
DESCRIPTION:Wo Sie Ironi Modi'in vs Kafr Qasim in Israel - Liga Leumit sehe
 n können. Live-Stream und TV-Programm.\nhttps://streamradar.soccer/de/matc
 h/5618786/ironi-modiin-vs-kafr-qasim/
URL;VALUE=URI:https://streamradar.soccer/de/match/5618786/ironi-modiin-vs-k
 afr-qasim/
STATUS:CONFIRMED
END:VEVENT
END:VCALENDAR
