BEGIN:VCALENDAR
VERSION:2.0
PRODID:-//StreamRadar//Match Calendar//EN
CALSCALE:GREGORIAN
METHOD:PUBLISH
X-WR-CALNAME:Hapoel Acre vs Hapoel Afula
X-WR-TIMEZONE:America/New_York
BEGIN:VEVENT
UID:match-5618783@streamradar.soccer
SUMMARY:Hapoel Acre vs Hapoel Afula
DTSTAMP:20260422T120909Z
DTSTART;TZID=America/New_York:20260430T114500
DTEND;TZID=America/New_York:20260430T134500
DESCRIPTION:Wo Sie Hapoel Acre vs Hapoel Afula in Israel - Liga Leumit sehe
 n können. Live-Stream und TV-Programm.\nhttps://streamradar.soccer/de/matc
 h/5618783/hapoel-acre-vs-hapoel-afula/
URL;VALUE=URI:https://streamradar.soccer/de/match/5618783/hapoel-acre-vs-ha
 poel-afula/
STATUS:CONFIRMED
END:VEVENT
END:VCALENDAR
