BEGIN:VCALENDAR
VERSION:2.0
PRODID:-//StreamRadar//Match Calendar//EN
CALSCALE:GREGORIAN
METHOD:PUBLISH
X-WR-CALNAME:Roma vs Ternana
X-WR-TIMEZONE:America/New_York
BEGIN:VEVENT
UID:match-5618738@streamradar.soccer
SUMMARY:Roma vs Ternana
DTSTAMP:20260422T113459Z
DTSTART;TZID=America/New_York:20260503T090000
DTEND;TZID=America/New_York:20260503T110000
LOCATION:Stadio Tre Fontane
DESCRIPTION:Wo Sie Roma vs Ternana in Serie A (Frauen) sehen können. Live-
 Stream und TV-Programm.\nhttps://streamradar.soccer/de/match/5618738/roma-v
 s-ternana/
URL;VALUE=URI:https://streamradar.soccer/de/match/5618738/roma-vs-ternana/
STATUS:CONFIRMED
END:VEVENT
END:VCALENDAR
