BEGIN:VCALENDAR
VERSION:2.0
PRODID:-//StreamRadar//Match Calendar//EN
CALSCALE:GREGORIAN
METHOD:PUBLISH
X-WR-CALNAME:Wiedenbrück vs Sportfreunde Siegen
X-WR-TIMEZONE:America/New_York
BEGIN:VEVENT
UID:match-5618737@streamradar.soccer
SUMMARY:Wiedenbrück vs Sportfreunde Siegen
DTSTAMP:20260422T121658Z
DTSTART;TZID=America/New_York:20260429T130000
DTEND;TZID=America/New_York:20260429T150000
DESCRIPTION:Wo Sie Wiedenbrück vs Sportfreunde Siegen in Deutschland - Reg
 ionalliga sehen können. Live-Stream und TV-Programm.\nhttps://streamradar.
 soccer/de/match/5618737/wiedenbruck-vs-sportfreunde-siegen/
URL;VALUE=URI:https://streamradar.soccer/de/match/5618737/wiedenbruck-vs-sp
 ortfreunde-siegen/
STATUS:CONFIRMED
END:VEVENT
END:VCALENDAR
