BEGIN:VCALENDAR
VERSION:2.0
PRODID:-//StreamRadar//Match Calendar//EN
CALSCALE:GREGORIAN
METHOD:PUBLISH
X-WR-CALNAME:AD Marco 09 vs Sporting Braga II
X-WR-TIMEZONE:America/New_York
BEGIN:VEVENT
UID:match-5618735@streamradar.soccer
SUMMARY:AD Marco 09 vs Sporting Braga II
DTSTAMP:20260422T120932Z
DTSTART;TZID=America/New_York:20260426T100000
DTEND;TZID=America/New_York:20260426T120000
LOCATION:Estádio Municipal do Marco de Canaveses (Marco de Canaveses)
DESCRIPTION:Wo Sie AD Marco 09 vs Sporting Braga II in Portugal - Campeonat
 o de Portugal sehen können. Live-Stream und TV-Programm.\nhttps://streamra
 dar.soccer/de/match/5618735/ad-marco-09-vs-sporting-braga-ii/
URL;VALUE=URI:https://streamradar.soccer/de/match/5618735/ad-marco-09-vs-sp
 orting-braga-ii/
STATUS:CONFIRMED
END:VEVENT
END:VCALENDAR
