BEGIN:VCALENDAR
VERSION:2.0
PRODID:-//StreamRadar//Match Calendar//EN
CALSCALE:GREGORIAN
METHOD:PUBLISH
X-WR-CALNAME:Shillong Lajong vs Rajasthan
X-WR-TIMEZONE:America/New_York
BEGIN:VEVENT
UID:match-5618722@streamradar.soccer
SUMMARY:Shillong Lajong vs Rajasthan
DTSTAMP:20260422T121051Z
DTSTART;TZID=America/New_York:20260515T090000
DTEND;TZID=America/New_York:20260515T110000
LOCATION:Jawaharlal Nehru Stadium
DESCRIPTION:Wo Sie Shillong Lajong vs Rajasthan in Indien - I-League sehen 
 können. Live-Stream und TV-Programm.\nhttps://streamradar.soccer/de/match/
 5618722/shillong-lajong-vs-rajasthan/
URL;VALUE=URI:https://streamradar.soccer/de/match/5618722/shillong-lajong-v
 s-rajasthan/
STATUS:CONFIRMED
END:VEVENT
END:VCALENDAR
