BEGIN:VCALENDAR
VERSION:2.0
PRODID:-//StreamRadar//Match Calendar//EN
CALSCALE:GREGORIAN
METHOD:PUBLISH
X-WR-CALNAME:Kariobangi Sharks vs Homeboyz
X-WR-TIMEZONE:America/New_York
BEGIN:VEVENT
UID:match-5618127@streamradar.soccer
SUMMARY:Kariobangi Sharks vs Homeboyz
DTSTAMP:20260421T144452Z
DTSTART;TZID=America/New_York:20260523T080000
DTEND;TZID=America/New_York:20260523T100000
DESCRIPTION:Wo Sie Kariobangi Sharks vs Homeboyz in Kenyan Premier League s
 ehen können. Live-Stream und TV-Programm.\nhttps://streamradar.soccer/de/m
 atch/5618127/kariobangi-sharks-vs-homeboyz/
URL;VALUE=URI:https://streamradar.soccer/de/match/5618127/kariobangi-sharks
 -vs-homeboyz/
STATUS:CONFIRMED
END:VEVENT
END:VCALENDAR
