BEGIN:VCALENDAR
VERSION:2.0
PRODID:-//StreamRadar//Match Calendar//EN
CALSCALE:GREGORIAN
METHOD:PUBLISH
X-WR-CALNAME:Auckland vs Tottenham Hotspur
X-WR-TIMEZONE:America/New_York
BEGIN:VEVENT
UID:match-5618099@streamradar.soccer
SUMMARY:Auckland vs Tottenham Hotspur
DTSTAMP:20260421T135902Z
DTSTART;TZID=America/New_York:20260725T230000
DTEND;TZID=America/New_York:20260726T010000
LOCATION:Eden Park
DESCRIPTION:Wo Sie Auckland vs Tottenham Hotspur in Freundschaftsspiel sehe
 n können. Live-Stream und TV-Programm.\nhttps://streamradar.soccer/de/matc
 h/5618099/auckland-vs-tottenham-hotspur/
URL;VALUE=URI:https://streamradar.soccer/de/match/5618099/auckland-vs-totte
 nham-hotspur/
STATUS:CONFIRMED
END:VEVENT
END:VCALENDAR
