BEGIN:VCALENDAR
VERSION:2.0
PRODID:-//StreamRadar//Match Calendar//EN
CALSCALE:GREGORIAN
METHOD:PUBLISH
X-WR-CALNAME:Botev Vratsa vs Beroe
X-WR-TIMEZONE:America/New_York
BEGIN:VEVENT
UID:match-5618062@streamradar.soccer
SUMMARY:Botev Vratsa vs Beroe
DTSTAMP:20260421T102042Z
DTSTART;TZID=America/New_York:20260522T110000
DTEND;TZID=America/New_York:20260522T130000
LOCATION:Hristo Botev Stadium
DESCRIPTION:Wo Sie Botev Vratsa vs Beroe in Bulgarien - Parwa Liga sehen kÃ
 ¶nnen. Live-Stream und TV-Programm.\nhttps://streamradar.soccer/de/match/56
 18062/botev-vratsa-vs-beroe/
URL;VALUE=URI:https://streamradar.soccer/de/match/5618062/botev-vratsa-vs-b
 eroe/
STATUS:CONFIRMED
END:VEVENT
END:VCALENDAR
