BEGIN:VCALENDAR
VERSION:2.0
PRODID:-//StreamRadar//Match Calendar//EN
CALSCALE:GREGORIAN
METHOD:PUBLISH
X-WR-CALNAME:Union Saint-Gilloise vs Anderlecht
X-WR-TIMEZONE:America/New_York
BEGIN:VEVENT
UID:match-5618057@streamradar.soccer
SUMMARY:Union Saint-Gilloise vs Anderlecht
DTSTAMP:20260421T112316Z
DTSTART;TZID=America/New_York:20260524T123000
DTEND;TZID=America/New_York:20260524T143000
LOCATION:Stade Joseph Marien
DESCRIPTION:Wo Sie Union Saint-Gilloise vs Anderlecht in Belgien - Pro Leag
 ue sehen können. Live-Stream und TV-Programm.\nhttps://streamradar.soccer/
 de/match/5618057/union-saint-gilloise-vs-anderlecht/
URL;VALUE=URI:https://streamradar.soccer/de/match/5618057/union-saint-gillo
 ise-vs-anderlecht/
STATUS:CONFIRMED
END:VEVENT
END:VCALENDAR
