BEGIN:VCALENDAR
VERSION:2.0
PRODID:-//StreamRadar//Match Calendar//EN
CALSCALE:GREGORIAN
METHOD:PUBLISH
X-WR-CALNAME:San Martín San Juan vs Agropecuario
X-WR-TIMEZONE:America/New_York
BEGIN:VEVENT
UID:match-5618049@streamradar.soccer
SUMMARY:San Martín San Juan vs Agropecuario
DTSTAMP:20260421T093648Z
DTSTART;TZID=America/New_York:20260620T160000
DTEND;TZID=America/New_York:20260620T180000
DESCRIPTION:Wo Sie San Martín San Juan vs Agropecuario in Argentinien - Pr
 imera Nacional sehen können. Live-Stream und TV-Programm.\nhttps://streamr
 adar.soccer/de/match/5618049/san-martin-san-juan-vs-agropecuario/
URL;VALUE=URI:https://streamradar.soccer/de/match/5618049/san-martin-san-ju
 an-vs-agropecuario/
STATUS:CONFIRMED
END:VEVENT
END:VCALENDAR
