BEGIN:VCALENDAR
VERSION:2.0
PRODID:-//StreamRadar//Match Calendar//EN
CALSCALE:GREGORIAN
METHOD:PUBLISH
X-WR-CALNAME:The Strongest vs Bolívar
X-WR-TIMEZONE:America/New_York
BEGIN:VEVENT
UID:match-5618025@streamradar.soccer
SUMMARY:The Strongest vs Bolívar
DTSTAMP:20260421T204214Z
DTSTART;TZID=America/New_York:20260531T171500
DTEND;TZID=America/New_York:20260531T191500
LOCATION:Estadio Hernando Siles
DESCRIPTION:Wo Sie The Strongest vs Bolívar in Bolivien - Primera Divisió
 n sehen können. Live-Stream und TV-Programm.\nhttps://streamradar.soccer/d
 e/match/5618025/the-strongest-vs-bolivar/
URL;VALUE=URI:https://streamradar.soccer/de/match/5618025/the-strongest-vs-
 bolivar/
STATUS:CONFIRMED
END:VEVENT
END:VCALENDAR
