BEGIN:VCALENDAR
VERSION:2.0
PRODID:-//StreamRadar//Match Calendar//EN
CALSCALE:GREGORIAN
METHOD:PUBLISH
X-WR-CALNAME:Racing Club vs Independiente Petrolero
X-WR-TIMEZONE:America/New_York
BEGIN:VEVENT
UID:match-5617998@streamradar.soccer
SUMMARY:Racing Club vs Independiente Petrolero
DTSTAMP:20260421T112437Z
DTSTART;TZID=America/New_York:20260527T180000
DTEND;TZID=America/New_York:20260527T200000
DESCRIPTION:Wo Sie Racing Club vs Independiente Petrolero in Copa Sudameric
 ana sehen können. Live-Stream und TV-Programm.\nhttps://streamradar.soccer
 /de/match/5617998/racing-club-vs-independiente-petrolero/
URL;VALUE=URI:https://streamradar.soccer/de/match/5617998/racing-club-vs-in
 dependiente-petrolero/
STATUS:CONFIRMED
END:VEVENT
END:VCALENDAR
