BEGIN:VCALENDAR
VERSION:2.0
PRODID:-//StreamRadar//Match Calendar//EN
CALSCALE:GREGORIAN
METHOD:PUBLISH
X-WR-CALNAME:Australia vs Switzerland
X-WR-TIMEZONE:America/New_York
BEGIN:VEVENT
UID:match-5617970@streamradar.soccer
SUMMARY:Australia vs Switzerland
DTSTAMP:20260422T015521Z
DTSTART;TZID=America/New_York:20260606T150000
DTEND;TZID=America/New_York:20260606T170000
LOCATION:Snapdragon Stadium
DESCRIPTION:Wo Sie Australien vs Schweiz in Freundschaftsspiel sehen könne
 n. Live-Stream und TV-Programm.\nhttps://streamradar.soccer/de/match/561797
 0/australia-vs-switzerland/
URL;VALUE=URI:https://streamradar.soccer/de/match/5617970/australia-vs-swit
 zerland/
STATUS:CONFIRMED
END:VEVENT
END:VCALENDAR
