BEGIN:VCALENDAR
VERSION:2.0
PRODID:-//StreamRadar//Match Calendar//EN
CALSCALE:GREGORIAN
METHOD:PUBLISH
X-WR-CALNAME:Armenia vs Kazakhstan
X-WR-TIMEZONE:America/New_York
BEGIN:VEVENT
UID:match-5617969@streamradar.soccer
SUMMARY:Armenia vs Kazakhstan
DTSTAMP:20260422T015517Z
DTSTART;TZID=America/New_York:20260606T120000
DTEND;TZID=America/New_York:20260606T140000
DESCRIPTION:Wo Sie Armenien vs Kasachstan in Freundschaftsspiel sehen könn
 en. Live-Stream und TV-Programm.\nhttps://streamradar.soccer/de/match/56179
 69/armenia-vs-kazakhstan/
URL;VALUE=URI:https://streamradar.soccer/de/match/5617969/armenia-vs-kazakh
 stan/
STATUS:CONFIRMED
END:VEVENT
END:VCALENDAR
