BEGIN:VCALENDAR
VERSION:2.0
PRODID:-//StreamRadar//Match Calendar//EN
CALSCALE:GREGORIAN
METHOD:PUBLISH
X-WR-CALNAME:Luxembourg vs Italy
X-WR-TIMEZONE:America/New_York
BEGIN:VEVENT
UID:match-5617964@streamradar.soccer
SUMMARY:Luxembourg vs Italy
DTSTAMP:20260421T220311Z
DTSTART;TZID=America/New_York:20260603T144500
DTEND;TZID=America/New_York:20260603T164500
LOCATION:Stade de Luxembourg
DESCRIPTION:Wo Sie Luxemburg vs Italien in Freundschaftsspiel sehen können
 . Live-Stream und TV-Programm.\nhttps://streamradar.soccer/de/match/5617964
 /luxembourg-vs-italy/
URL;VALUE=URI:https://streamradar.soccer/de/match/5617964/luxembourg-vs-ita
 ly/
STATUS:CONFIRMED
END:VEVENT
END:VCALENDAR
